BEGIN:VCALENDAR
VERSION:2.0
PRODID:-//Tukios.com/
BEGIN:VEVENT
UID:8a990a82-efbc-4e0a-a087-cde8f15cebc0@www.kinnardfcs.com
DTSTAMP:20260420T141050Z
DTSTART:20260428T163000Z
DTEND:20260428T173000Z
SUMMARY:Funeral Service
DESCRIPTION:
URL:https://www.kinnardfcs.com/obituaries/aileen-zachek
LOCATION:St. Isidore the Farmer Catholic Church 18424 Tisch Mills Road  
	Denmark WI 54208
GEO:44.3215862;-87.6304763
END:VEVENT
END:VCALENDAR