BEGIN:VCALENDAR
VERSION:2.0
PRODID:-//Tukios.com/
BEGIN:VEVENT
UID:fbadbc6b-8d71-456d-a638-a841724a1a05@www.kinnardfcs.com
DTSTAMP:20260420T140702Z
DTSTART:20260428T163000Z
DTEND:20260428T173000Z
SUMMARY:Burial
DESCRIPTION:
URL:https://www.kinnardfcs.com/obituaries/aileen-zachek
LOCATION:parish cemetery 18424 Tisch Mills Road  Denmark WI 54208
GEO:44.3215862;-87.6304763
END:VEVENT
END:VCALENDAR