BEGIN:VCALENDAR
VERSION:2.0
PRODID:-//Tukios.com/
BEGIN:VEVENT
UID:4dbaf6c3-d3a7-48f6-889e-b6ab95c71ccd@www.kinnardfcs.com
DTSTAMP:20260420T140143Z
DTSTART:20260428T140000Z
DTEND:20260428T163000Z
SUMMARY:Visitation
DESCRIPTION:
URL:https://www.kinnardfcs.com/obituaries/aileen-zachek
LOCATION:St. Isidore the Farmer Catholic Church 18424 Tisch Mills Road  
	Denmark WI 54208
GEO:44.3215862;-87.6304763
END:VEVENT
END:VCALENDAR