BEGIN:VCALENDAR
VERSION:2.0
PRODID:-//Tukios.com/
BEGIN:VEVENT
UID:46cd2e9a-503e-47d3-a58d-8e6a871b1d06@www.kinnardfcs.com
DTSTAMP:20260424T193012Z
DTSTART:20260613T160000Z
DTEND:20260613T170000Z
SUMMARY:Visitation
DESCRIPTION:
URL:https://www.kinnardfcs.com/obituaries/pearl-schumacher
LOCATION:Kinnard Funeral & Cremation Services - Kewaunee 1425 Ellis 
	Street  Kewaunee WI 54216
GEO:44.4585659;-87.521463
END:VEVENT
END:VCALENDAR