BEGIN:VCALENDAR
VERSION:2.0
PRODID:-//Tukios.com/
BEGIN:VEVENT
UID:13da13bf-ceb3-4dec-9690-9c747378af29@www.kinnardfcs.com
DTSTAMP:20260424T193610Z
DTSTART:20260613T170000Z
DTEND:20260613T180000Z
SUMMARY:Burial
DESCRIPTION:
URL:https://www.kinnardfcs.com/obituaries/pearl-schumacher
LOCATION:Riverview Cemetery  1003 Miller Street  Kewaunee WI 54216
GEO:44.4603266;-87.5134814
END:VEVENT
END:VCALENDAR